BEGIN:VCALENDAR
PRODID:-//eluceo/ical//2.0/EN
VERSION:2.0
CALSCALE:GREGORIAN
BEGIN:VEVENT
UID:05c8bacc0487d2b4823ea287248245ad
DTSTAMP:20260422T082840Z
SUMMARY:Organisation und Weiterentwicklung regionaler Messen
DESCRIPTION:Website: https://www.schifflaende-maur.ch\nSpeaker(s): Andreas 
 Künzli\, Geschäftsinhaber Züri Oberland Mäss (ZOM) sowie M&S Inside AG
URL:https://am-greifensee.rotary2000.ch/en/agenda/show/209900
DTSTART;TZID=Europe/Zurich:20260609T115000
DTEND;TZID=Europe/Zurich:20260609T133000
LOCATION:Restaurant Schifflände\, Seestrasse 31\, Schifflände Maur\, 8124
  Maur\, Schweiz
CATEGORIES:Rotary
END:VEVENT
BEGIN:VTIMEZONE
TZID:Europe/Zurich
BEGIN:DAYLIGHT
DTSTART:20260609T115000
TZNAME:CEST
TZOFFSETTO:+0200
TZOFFSETFROM:+0200
END:DAYLIGHT
END:VTIMEZONE
END:VCALENDAR
