BEGIN:VCALENDAR
PRODID:-//eluceo/ical//2.0/EN
VERSION:2.0
CALSCALE:GREGORIAN
BEGIN:VEVENT
UID:9626b2450aa489d53f722a109dc07148
DTSTAMP:20260421T152416Z
SUMMARY:Klassifikationsvortrag
DESCRIPTION:Sito web: https://www.sgg-greifensee.ch/\nRelatore/i: Rot. Arun
  Claude Müller
URL:https://am-greifensee.rotary2000.ch/it/agenda/show/170178
DTSTART;TZID=Europe/Zurich:20240130T115000
DTEND;TZID=Europe/Zurich:20240130T133000
LOCATION:Schifflände Maur - Schiff Stadt Uster\, Schifflände Maur\, 8124 
 Maur
CATEGORIES:Rotary
END:VEVENT
BEGIN:VTIMEZONE
TZID:Europe/Zurich
BEGIN:STANDARD
DTSTART:20240130T115000
TZNAME:CET
TZOFFSETTO:+0100
TZOFFSETFROM:+0100
END:STANDARD
END:VTIMEZONE
END:VCALENDAR
