BEGIN:VCALENDAR
PRODID:-//eluceo/ical//2.0/EN
VERSION:2.0
CALSCALE:GREGORIAN
BEGIN:VEVENT
UID:555297207b5a0901a8c66c7191c51629
DTSTAMP:20260419T181717Z
SUMMARY:Umwelt- und Abfallpolitik - Deponie Tägernauerholz
DESCRIPTION:Sito web: https://www.schifflaende-maur.ch\nRelatore/i: Susanna
 \nJenny: Gemeindepräsidentin Grüningen 2006 – 2018Beat Hofmann: Präsi
 dent IG Stedtli    
URL:https://am-greifensee.rotary2000.ch/it/agenda/show/198704
DTSTART;TZID=Europe/Zurich:20250708T115000
DTEND;TZID=Europe/Zurich:20250708T133000
LOCATION:Restaurant Schifflände\, Seestrasse 31\, Schifflände Maur\, 8124
  Maur\, Schweiz
CATEGORIES:Rotary
END:VEVENT
BEGIN:VTIMEZONE
TZID:Europe/Zurich
BEGIN:DAYLIGHT
DTSTART:20250708T115000
TZNAME:CEST
TZOFFSETTO:+0200
TZOFFSETFROM:+0200
END:DAYLIGHT
END:VTIMEZONE
END:VCALENDAR
